BEGIN:VCALENDAR
VERSION:2.0
PRODID:SchoolNow
CALSCALE:GREGORIAN
BEGIN:VEVENT
UID:3423ee9c-dd8f-11ef-8aa5-0e956362e35d
DTSTAMP:20250128T154739Z
SUMMARY:Boys Junior Varsity Basketball v. Lowville
LOCATION:PHS AUX Gym (Volleyball gym)
URL;VALUE=URI:https://www.uticaschools.org/departments/athletics/calendar/7
 387725/boys-junior-varsity-basketball-v-lowville
DTSTART:20241127T153000Z
DTEND:20241127T173000Z
END:VEVENT
END:VCALENDAR
