BEGIN:VCALENDAR
VERSION:2.0
PRODID:SchoolNow
CALSCALE:GREGORIAN
BEGIN:VEVENT
UID:2e8d38e4-dd8f-11ef-9592-0e956362e35d
DTSTAMP:20250128T154730Z
SUMMARY:Girls (Co-ed Fall) Varsity Cheerleading @ West Genesee (Fall)
LOCATION:WG-HS Upper Gym
URL;VALUE=URI:https://www.uticaschools.org/departments/athletics/calendar/7
 386418/girls-co-ed-fall-varsity-cheerleading-west-genesee-fall
DTSTART:20241004T220000Z
DTEND:20241004T230000Z
END:VEVENT
END:VCALENDAR
