BEGIN:VCALENDAR
VERSION:2.0
PRODID:SchoolNow
CALSCALE:GREGORIAN
BEGIN:VEVENT
UID:2e8d31a0-dd8f-11ef-95cc-0e956362e35d
DTSTAMP:20250128T154730Z
SUMMARY:(G) JV Soccer - Practice (3:15 PM)
URL;VALUE=URI:https://www.uticaschools.org/departments/athletics/calendar/7
 386410/g-jv-soccer-practice-3-15-pm
DTSTART:20241007T191500Z
DTEND:20241007T211500Z
END:VEVENT
END:VCALENDAR
