BEGIN:VCALENDAR
VERSION:2.0
PRODID:SchoolNow
CALSCALE:GREGORIAN
BEGIN:VEVENT
UID:2e8d2dfe-dd8f-11ef-b762-0e956362e35d
DTSTAMP:20250128T154730Z
SUMMARY:(G) V Swimming/Diving - Practice (7:00 AM)
LOCATION:PHS Swimming Pool
URL;VALUE=URI:https://www.uticaschools.org/departments/athletics/calendar/7
 386406/g-v-swimming-diving-practice-7-00-am
DTSTART:20241105T120000Z
DTEND:20241105T133000Z
END:VEVENT
END:VCALENDAR
