BEGIN:VCALENDAR
VERSION:2.0
PRODID:SchoolNow
CALSCALE:GREGORIAN
BEGIN:VEVENT
UID:2dc642de-dd8f-11ef-ad86-0e956362e35d
DTSTAMP:20250128T154728Z
SUMMARY:Girls (JFK/DMS) 7th/8th Swimming/Diving Holland Patent\, New Hartfo
 rd\, Adirondack\, Rome Free Academy @ West Canada Valley
LOCATION:WCV Pool
URL;VALUE=URI:https://www.uticaschools.org/departments/athletics/calendar/7
 386157/girls-jfk-dms-7th-8th-swimming-diving-holland-patent-new-hartford-a
 dirondack-rome-free-academy-west-canada-valley
DTSTART:20241009T210000Z
DTEND:20241009T230000Z
END:VEVENT
END:VCALENDAR
