BEGIN:VCALENDAR
VERSION:2.0
PRODID:SchoolNow
CALSCALE:GREGORIAN
BEGIN:VEVENT
UID:2dc63bb8-dd8f-11ef-b352-0e956362e35d
DTSTAMP:20250128T154728Z
SUMMARY:Girls Varsity Swimming/Diving Adirondack\, Cooperstown (Cooperstown
 /Milford)\, Holland Patent\, West Canada Valley @ Rome Free Academy
LOCATION:RFA Pool\, RFA Auxilliary Gym
URL;VALUE=URI:https://www.uticaschools.org/departments/athletics/calendar/7
 386149/girls-varsity-swimming-diving-adirondack-cooperstown-cooperstown-mi
 lford-holland-patent-west-canada-valley-rome-free-academy
DTSTART:20241025T210000Z
DTEND:20241026T000000Z
END:VEVENT
END:VCALENDAR
