BEGIN:VCALENDAR
VERSION:2.0
PRODID:SchoolNow
CALSCALE:GREGORIAN
BEGIN:VEVENT
UID:2d38209e-dd8f-11ef-8b11-0e956362e35d
DTSTAMP:20250128T154728Z
SUMMARY:POSTPONED: Boys (JFK) 7th/8th Football @ Oneida
LOCATION:Stadium Field
URL;VALUE=URI:https://www.uticaschools.org/departments/athletics/calendar/7
 386092/postponed-boys-jfk-7th-8th-football-oneida
DTSTART:20241028T200000Z
DTEND:20241028T210000Z
END:VEVENT
END:VCALENDAR
