BEGIN:VCALENDAR
VERSION:2.0
PRODID:SchoolNow
CALSCALE:GREGORIAN
BEGIN:VEVENT
UID:2d381f04-dd8f-11ef-a0d2-0e956362e35d
DTSTAMP:20250128T154728Z
SUMMARY:POSTPONED: Boys Junior Varsity Soccer v. Watertown
LOCATION:PHS Grass Soccer Field
URL;VALUE=URI:https://www.uticaschools.org/departments/athletics/calendar/7
 386090/postponed-boys-junior-varsity-soccer-v-watertown
DTSTART:20241012T183000Z
DTEND:20241012T193000Z
END:VEVENT
END:VCALENDAR
