BEGIN:VCALENDAR
VERSION:2.0
PRODID:SchoolNow
CALSCALE:GREGORIAN
BEGIN:VEVENT
UID:2d37e5de-dd8f-11ef-a284-0e956362e35d
DTSTAMP:20250128T154728Z
SUMMARY:College & Career Fair  @ PHS Main Gym (8:00 AM)
LOCATION:PHS Main Gym
URL;VALUE=URI:https://www.uticaschools.org/departments/athletics/calendar/7
 386047/college-career-fair-phs-main-gym-8-00-am
DTSTART:20241016T120000Z
DTEND:20241016T153000Z
END:VEVENT
END:VCALENDAR
